<TileMap version="1.0.0" tilemapservice="https://openbasiskaart.nl/mapcache/tms/1.0.0/"><Title>openbasiskaart.nl: OpenStreetMap ondergrondkaart</Title><Abstract>Basiskaart op basis van OpenStreetMap data (map data copyright OpenStreetMap contributors, http://www.openstreetmap.org/copyright). Visuele stijl op basis van MapServer basemaps: http://github.com/opengeogroep/basemaps/tree/openbasiskaart-6-2. http://www.openbasiskaart.nl/ is powered by http://www.opengeogroep.nl/. Te gebruiken als fair-use "as-is", voor meer mogelijkheden neem contact op met info@opengeogroep.nl.</Abstract><SRS>EPSG:28992</SRS><BoundingBox minx="-285401.920000" miny="22598.080000" maxx="595401.920000" maxy="903401.920000"></BoundingBox><Origin x="-285401.920000" y="22598.080000"></Origin><TileFormat width="256" height="256" mime-type="image/png" extension="png"></TileFormat><TileSets><TileSet href="https://openbasiskaart.nl/mapcache/tms/1.0.0/osm@rd/0" units-per-pixel="3440.63999999999987267074" order="0"></TileSet><TileSet href="https://openbasiskaart.nl/mapcache/tms/1.0.0/osm@rd/1" units-per-pixel="1720.31999999999993633537" order="1"></TileSet><TileSet href="https://openbasiskaart.nl/mapcache/tms/1.0.0/osm@rd/2" units-per-pixel="860.15999999999996816769" order="2"></TileSet><TileSet href="https://openbasiskaart.nl/mapcache/tms/1.0.0/osm@rd/3" units-per-pixel="430.07999999999998408384" order="3"></TileSet><TileSet href="https://openbasiskaart.nl/mapcache/tms/1.0.0/osm@rd/4" units-per-pixel="215.03999999999999204192" order="4"></TileSet><TileSet href="https://openbasiskaart.nl/mapcache/tms/1.0.0/osm@rd/5" units-per-pixel="107.51999999999999602096" order="5"></TileSet><TileSet href="https://openbasiskaart.nl/mapcache/tms/1.0.0/osm@rd/6" units-per-pixel="53.75999999999999801048" order="6"></TileSet><TileSet href="https://openbasiskaart.nl/mapcache/tms/1.0.0/osm@rd/7" units-per-pixel="26.87999999999999900524" order="7"></TileSet><TileSet href="https://openbasiskaart.nl/mapcache/tms/1.0.0/osm@rd/8" units-per-pixel="13.43999999999999950262" order="8"></TileSet><TileSet href="https://openbasiskaart.nl/mapcache/tms/1.0.0/osm@rd/9" units-per-pixel="6.71999999999999975131" order="9"></TileSet><TileSet href="https://openbasiskaart.nl/mapcache/tms/1.0.0/osm@rd/10" units-per-pixel="3.35999999999999987566" order="10"></TileSet><TileSet href="https://openbasiskaart.nl/mapcache/tms/1.0.0/osm@rd/11" units-per-pixel="1.67999999999999989342" order="11"></TileSet><TileSet href="https://openbasiskaart.nl/mapcache/tms/1.0.0/osm@rd/12" units-per-pixel="0.84000000000000003553" order="12"></TileSet><TileSet href="https://openbasiskaart.nl/mapcache/tms/1.0.0/osm@rd/13" units-per-pixel="0.42000000000000001776" order="13"></TileSet><TileSet href="https://openbasiskaart.nl/mapcache/tms/1.0.0/osm@rd/14" units-per-pixel="0.21000000000000000888" order="14"></TileSet><TileSet href="https://openbasiskaart.nl/mapcache/tms/1.0.0/osm@rd/15" units-per-pixel="0.10500000000000000444" order="15"></TileSet><TileSet href="https://openbasiskaart.nl/mapcache/tms/1.0.0/osm@rd/16" units-per-pixel="0.05250000000000000000" order="16"></TileSet><TileSet href="https://openbasiskaart.nl/mapcache/tms/1.0.0/osm@rd/17" units-per-pixel="0.02625000000000000000" order="17"></TileSet><TileSet href="https://openbasiskaart.nl/mapcache/tms/1.0.0/osm@rd/18" units-per-pixel="0.01312500000000000000" order="18"></TileSet><TileSet href="https://openbasiskaart.nl/mapcache/tms/1.0.0/osm@rd/19" units-per-pixel="0.00656250000000000000" order="19"></TileSet><TileSet href="https://openbasiskaart.nl/mapcache/tms/1.0.0/osm@rd/20" units-per-pixel="0.00328125000000000000" order="20"></TileSet><TileSet href="https://openbasiskaart.nl/mapcache/tms/1.0.0/osm@rd/21" units-per-pixel="0.00164062500000000000" order="21"></TileSet></TileSets></TileMap>